BEGIN:VCALENDAR
VERSION:2.0
PRODID:-//Iowa Emergency Management Association - ECPv6.15.13//NONSGML v1.0//EN
CALSCALE:GREGORIAN
METHOD:PUBLISH
X-ORIGINAL-URL:https://www.iowaema.com
X-WR-CALDESC:Events for Iowa Emergency Management Association
REFRESH-INTERVAL;VALUE=DURATION:PT1H
X-Robots-Tag:noindex
X-PUBLISHED-TTL:PT1H
BEGIN:VTIMEZONE
TZID:America/Chicago
BEGIN:DAYLIGHT
TZOFFSETFROM:-0600
TZOFFSETTO:-0500
TZNAME:CDT
DTSTART:20250309T080000
END:DAYLIGHT
BEGIN:STANDARD
TZOFFSETFROM:-0500
TZOFFSETTO:-0600
TZNAME:CST
DTSTART:20251102T070000
END:STANDARD
BEGIN:DAYLIGHT
TZOFFSETFROM:-0600
TZOFFSETTO:-0500
TZNAME:CDT
DTSTART:20260308T080000
END:DAYLIGHT
BEGIN:STANDARD
TZOFFSETFROM:-0500
TZOFFSETTO:-0600
TZNAME:CST
DTSTART:20261101T070000
END:STANDARD
BEGIN:DAYLIGHT
TZOFFSETFROM:-0600
TZOFFSETTO:-0500
TZNAME:CDT
DTSTART:20270314T080000
END:DAYLIGHT
BEGIN:STANDARD
TZOFFSETFROM:-0500
TZOFFSETTO:-0600
TZNAME:CST
DTSTART:20271107T070000
END:STANDARD
END:VTIMEZONE
BEGIN:VEVENT
DTSTART;TZID=America/Chicago:20260306T100000
DTEND;TZID=America/Chicago:20260306T120000
DTSTAMP:20260420T022407
CREATED:20251223T145523Z
LAST-MODIFIED:20251223T150243Z
UID:231719-1772791200-1772798400@www.iowaema.com
SUMMARY:Executive Committee Meeting
DESCRIPTION:
URL:https://www.iowaema.com/event/executive-committee-meeting-16/
LOCATION:Virtual
CATEGORIES:Meeting
ORGANIZER;CN="IEMA Executive Committee":MAILTO:xcomm@iowaema.com
END:VEVENT
BEGIN:VEVENT
DTSTART;VALUE=DATE:20260312
DTEND;VALUE=DATE:20260314
DTSTAMP:20260420T022407
CREATED:20251223T160212Z
LAST-MODIFIED:20251223T160422Z
UID:231764-1773273600-1773446399@www.iowaema.com
SUMMARY:ISAC Spring School
DESCRIPTION:
URL:https://www.iowaema.com/event/isac-spring-school/
LOCATION:Veteran’s Memorial Community Choice Credit Union Convention Center\, 833 5th Avenue\, Des Moines\, IA\, 50309\, United States
CATEGORIES:Training
END:VEVENT
BEGIN:VEVENT
DTSTART;TZID=America/Chicago:20260313T090000
DTEND;TZID=America/Chicago:20260313T120000
DTSTAMP:20260420T022407
CREATED:20251223T150555Z
LAST-MODIFIED:20251223T150555Z
UID:231737-1773392400-1773403200@www.iowaema.com
SUMMARY:Spring Association Meeting
DESCRIPTION:
URL:https://www.iowaema.com/event/spring-association-meeting-2/
LOCATION:IA
CATEGORIES:Meeting
END:VEVENT
END:VCALENDAR